BEGIN:VCALENDAR
VERSION:2.0
PRODID:-//BKC - ECPv5.0.2//NONSGML v1.0//EN
CALSCALE:GREGORIAN
METHOD:PUBLISH
X-WR-CALNAME:BKC
X-ORIGINAL-URL:https://bkcentre.com.au
X-WR-CALDESC:Events for BKC
BEGIN:VTIMEZONE
TZID:Australia/Perth
BEGIN:STANDARD
TZOFFSETFROM:+0800
TZOFFSETTO:+0800
TZNAME:AWST
DTSTART:20180101T000000
END:STANDARD
END:VTIMEZONE
BEGIN:VEVENT
DTSTART;TZID=Australia/Perth:20180531T094500
DTEND;TZID=Australia/Perth:20180531T120000
DTSTAMP:20200225T034845
CREATED:20180321T052744Z
LAST-MODIFIED:20180322T143346Z
UID:293-1527759900-1527768000@bkcentre.com.au
SUMMARY:Introduction to Budgeting
DESCRIPTION:This event was created in collaboration with the Mundaring Chamber of Commerce\nWant to get started on or implement budgets for next Financial Year but don’t know\nwhere to start?\nIn this workshop\, you will need to bring a calculator\, and also reports from your existing\nbusiness (if available) showing Profit & Loss (month to month) and Balance Sheet\n(month to month) for the past 12 months.\nJoin The Business Knowledge Centre to learn about the 2 main types of budgets used in\na business and how to go about establishing them. \n
URL:https://bkcentre.com.au/event/introduction-to-budgeting/
LOCATION:Shire of Mundaring\, 7000 Great Eastern Hwy\, Mundaring\, Western Australia\, 6073
ATTACH;FMTTYPE=image/jpeg:https://bkcentre.com.au/wp-content/uploads/2018/03/intro2budgeting.jpg
END:VEVENT
END:VCALENDAR