BEGIN:VCALENDAR
VERSION:2.0
PRODID:-//BKC - ECPv5.0.2//NONSGML v1.0//EN
CALSCALE:GREGORIAN
METHOD:PUBLISH
X-WR-CALNAME:BKC
X-ORIGINAL-URL:https://bkcentre.com.au
X-WR-CALDESC:Events for BKC
BEGIN:VTIMEZONE
TZID:Asia/Shanghai
BEGIN:STANDARD
TZOFFSETFROM:+0800
TZOFFSETTO:+0800
TZNAME:CST
DTSTART:20180101T000000
END:STANDARD
END:VTIMEZONE
BEGIN:VEVENT
DTSTART;TZID=Asia/Shanghai:20180220T080000
DTEND;TZID=Asia/Shanghai:20180220T100000
DTSTAMP:20200225T035041
CREATED:20180205T052224Z
LAST-MODIFIED:20180205T202942Z
UID:210-1519113600-1519120800@bkcentre.com.au
SUMMARY:Cash Flow is King
DESCRIPTION:Do you ever find yourself asking this question: “I have all this profit but no cash in the bank – where has it gone?” \nIf you answered yes to this question\, then this is the seminar for YOU!!! \nIn this 2 hour information session\, we aim to provide an insight into the importance of cash flow in your business\, how to answer the above question and where to start when looking at cash flow within your own business. \nBuy Tickets \n
URL:https://bkcentre.com.au/event/cash-flow-is-king/
LOCATION:Stirling Business Centre\, 45 Delawney Street\, Balcatta\, Perth\, Western Australia\, 6021
ATTACH;FMTTYPE=image/jpeg:https://bkcentre.com.au/wp-content/uploads/2018/02/CashFlowWorkshop.jpg
ORGANIZER;CN="BKC":MAILTO:info@bkcentre.com.au
END:VEVENT
END:VCALENDAR